BEGIN:VCALENDAR
VERSION:2.0
PRODID:-//Chubut al Mundo - ECPv6.13.2.1//NONSGML v1.0//EN
CALSCALE:GREGORIAN
METHOD:PUBLISH
X-WR-CALNAME:Chubut al Mundo
X-ORIGINAL-URL:https://chubutalmundo.com.ar
X-WR-CALDESC:Eventos para Chubut al Mundo
REFRESH-INTERVAL;VALUE=DURATION:PT1H
X-Robots-Tag:noindex
X-PUBLISHED-TTL:PT1H
BEGIN:VTIMEZONE
TZID:America/Argentina/Buenos_Aires
BEGIN:STANDARD
TZOFFSETFROM:-0300
TZOFFSETTO:-0300
TZNAME:-03
DTSTART:20260101T000000
END:STANDARD
END:VTIMEZONE
BEGIN:VEVENT
DTSTART;TZID=America/Argentina/Buenos_Aires:20260601T080000
DTEND;TZID=America/Argentina/Buenos_Aires:20260605T170000
DTSTAMP:20260423T050337
CREATED:20260422T121005Z
LAST-MODIFIED:20260422T121005Z
UID:12137-1780300800-1780678800@chubutalmundo.com.ar
SUMMARY:Argentina Tech Hub @ New York Tech Week 2026
DESCRIPTION:El Ministerio de Relaciones Exteriores\, Comercio Internacional y Culto de la República Argentina\, a través de la Dirección de Promoción de Exportaciones de Servicios Basados en el Conocimiento\, Industrias Creativas\, Turismo y Deportes (DNTEC)\, y el Consulado General y Centro de Promoción de la República Argentina en Nueva York\, tiene el agrado de invitar a empresas tecnológicas\, startups\, fondos de inversión\, aceleradoras\, cámaras empresariales y demás organizaciones del ecosistema argentino a postular actividades para formar parte de: \nArgentina Tech Hub @ NY Tech Week 2026 \n Fechas: 1 al 5 de junio de 2026\n Lugar: Consulado General y Centro de Promoción de la República Argentina en Nueva York \nEn el marco de la NY Tech Week 2026\, el Consulado se convertirá en un espacio estratégico para amplificar la presencia argentina en uno de los ecosistemas tecnológicos más dinámicos del mundo. \nA lo largo de la semana\, Argentina Tech Hub ofrecerá una agenda de actividades distribuidas en cuatro salas en simultáneo\, con slots de 90 minutos orientados a generar visibilidad\, networking y oportunidades de negocio para el talento argentino. \n¿Quiénes pueden postular? \nSe invita a presentar propuestas a: \n\n\nEmpresas tecnológicas argentinas \n\n\nStartups y scaleups \n\n\nFondos de inversión y venture capital \n\n\nAceleradoras e incubadoras \n\n\nCámaras empresariales \n\n\nComunidades tecnológicas \n\n\nUniversidades y demás organizaciones del ecosistema \n\n\n\nTipos de actividades que se pueden proponer \nLas organizaciones interesadas podrán postular actividades tales como: \n\n\nPanels \n\n\nFireside chats \n\n\nWorkshops \n\n\nPitch sessions \n\n\nDemo sessions \n\n\nRoundtables \n\n\nActividades/eventos de networking temático \n\n\n\n Duración de cada actividad: 90 minutos \nVerticales prioritarias: \n– AgTech \n– Artificial Intelligence \n– Biotech \n– ClimateTech \n– Corporate Innovation \n– Creative Industries Tech \n– Cybersecurity \n– Fintech \n– HealthTech \n– Investment \n– Professional Services \n\nTemáticas por día \nLas actividades deberán alinearse preferentemente con la temática de cada jornada: \n\n\nLunes: Argentina Ecosystem. Argentina Delivers/Servicios Profesionales\n(agenda institucional por la mañana; slots abiertos por la tarde) \n\n\nMartes: Artificial Intelligence \n\n\nMiércoles: Fintech\, Investment & Scaleups \n\n\nJueves: Creative Industries Tech \n\n\nViernes: Industry Tech\, Cybersecurity & Biotech \n\n\n\nEspacios disponibles \nLas actividades podrán desarrollarse en los siguientes espacios: \n\n\nAuditorio (90 personas): reservado para panels y fireside chats \n\n\nGalería (40 personas) \n\n\nSala 3 (15 personas) \n\n\nSala 4 (12 personas) \n\n\n\nCiterios de selección \nLas propuestas serán evaluadas en función de: \n\n\nRelevancia estratégica \n\n\nCalidad de los speakers \n\n\nImpacto internacional \n\n\nNivel de innovación \n\n\nCapacidad de convocatoria \n\n\nPotencial de generación de oportunidades \n\n\n\n¿Por qué participar? \nFormar parte de Argentina Tech Hub permitirá: \n\n\nVisibilizar su organización ante actores internacionales \n\n\nGenerar conexiones estratégicas \n\n\nPresentar soluciones y capacidades tecnológicas \n\n\nFortalecer su posicionamiento en el ecosistema global \n\n\n\nPara consultas\, pueden comunicarse a: \n nuevastecnologias@mrecic.gov.ar \nEsperamos contar con su participación para construir juntos una presencia argentina sólida y competitiva durante la NY Tech Week 2026. \n\n\nFechas clave \n Cierre de convocatoria: 10/05 \n\n\n¿Cómo postular una actividad? \nLas organizaciones interesadas deberán completar el siguiente formulario: \nLINK PARA INSCRIPCION:  https://forms.gle/uLTg99sALHFpDCjL6
URL:https://chubutalmundo.com.ar/event/argentina-tech-hub-new-york-tech-week-2026/
CATEGORIES:Promoción Comercial
ATTACH;FMTTYPE=image/jpeg:https://chubutalmundo.com.ar/wp-content/uploads/2026/04/Banner-Horizontal-CNYOR-1-copia-0.05.jpg
ORGANIZER;CN="Consulado General y Centro de Promoci%C3%B3n de la Rep%C3%BAblica Argentina en Nueva York":MAILTO:nuevastecnologias@mrecic.gov.ar
END:VEVENT
END:VCALENDAR