BEGIN:VCALENDAR
VERSION:2.0
PRODID:-//Chubut al Mundo - ECPv6.13.2.1//NONSGML v1.0//EN
CALSCALE:GREGORIAN
METHOD:PUBLISH
X-ORIGINAL-URL:https://chubutalmundo.com.ar
X-WR-CALDESC:Eventos para Chubut al Mundo
REFRESH-INTERVAL;VALUE=DURATION:PT1H
X-Robots-Tag:noindex
X-PUBLISHED-TTL:PT1H
BEGIN:VTIMEZONE
TZID:America/Argentina/Buenos_Aires
BEGIN:STANDARD
TZOFFSETFROM:-0300
TZOFFSETTO:-0300
TZNAME:-03
DTSTART:20250101T000000
END:STANDARD
END:VTIMEZONE
BEGIN:VEVENT
DTSTART;TZID=America/Argentina/Buenos_Aires:20250316T090000
DTEND;TZID=America/Argentina/Buenos_Aires:20250318T180000
DTSTAMP:20260419T193758
CREATED:20250214T144824Z
LAST-MODIFIED:20250214T144824Z
UID:11182-1742115600-1742320800@chubutalmundo.com.ar
SUMMARY:PROWEIN
DESCRIPTION:Feria internacional de vinos y licores\n\n \n \nViva la magia de ProWein: información y tendencias actuales directamente de la acción.\n\n\n\nDesde hace 30 años\, ProWein es la única feria internacional de vinos y licores que abarca de forma intensiva todo el mercado mundial. Por ello\, los visitantes son tan internacionales como los expositores\, que acuden a ProWein cada año en busca de nuevas cosechas\, las últimas tendencias en la industria del vino y los licores y nuevos productos destacados para sus consumidores. Y estos son exclusivamente conocedores del sector\, ya que el acceso controlado garantiza que en ProWein solo se encuentren expertos. La feria de vinos y licores garantiza valiosas clases magistrales y catas en un ambiente profesional en los pabellones de exposición y un gran número de acuerdos comerciales. \nTodas las categorías de productos en ProWein\n\n\n¿Busca vinos excelentes de zonas de cultivo de renombre o de pequeñas y atractivas dimensiones ? ¿Espumosos y champanes que deleiten a sus clientes? ¿O busca excelentes licores \, licores artesanales o las últimas tendencias en cerveza artesanal ? En ProWein no solo encontrará todo esto\, sino también accesorios creativos para el marketing en tiendas minoristas y en la gastronomía . No deje pasar la oportunidad de descubrir las últimas tendencias e innovaciones en productos de vino y licores. A continuación\, encontrará un primer resumen de las categorías de productos y los expositores que asistirán a ProWein entre el 16 y el 18 de marzo de 2025.
URL:https://chubutalmundo.com.ar/event/prowein/
LOCATION:Recinto ferial de Düsseldorf  Para transportistas y constructores de stands: D-40474 Düsseldorf\, Am Staad [=Tor 1]\, Germany
CATEGORIES:Promoción Comercial
ATTACH;FMTTYPE=image/png:https://chubutalmundo.com.ar/wp-content/uploads/2025/02/PW25_Kopfgrafik_01_Desktop.png
END:VEVENT
BEGIN:VEVENT
DTSTART;TZID=America/Argentina/Buenos_Aires:20250316T100000
DTEND;TZID=America/Argentina/Buenos_Aires:20250318T170000
DTSTAMP:20260419T193758
CREATED:20250214T143000Z
LAST-MODIFIED:20250214T143000Z
UID:11173-1742119200-1742317200@chubutalmundo.com.ar
SUMMARY:SEAFOOD EXPO NORTH AMERICA 2025
DESCRIPTION:La Agencia Argentina de Inversiones y Comercio Internacional\, con la participación del Consejo Federal Pesquero\, convocan a empresas argentinas del sector pesquero a participar en la feria “SEAFOOD EXPO NORTH AMERICA” bajo el signo distintivo “MAR ARGENTINO\, salvaje y austral”. El evento que tendrá lugar en el Centro de Exposiciones y Convenciones de Boston\, Estados Unidos\, del 16 al 18 de marzo. \nSEAFOOD EXPO NORTH AMERICA es considerada la feria más importante del sector pesquero en los Estados Unidos. \nEl evento convoca a importadores\, distribuidores y compradores de pescado fresco y congelado\, así como a compradores de otros productos\, equipamiento y servicios vinculados al sector de pescados y mariscos de diversas partes del mundo. \nEn la última edición en 2024 expusieron sus productos 1.300 empresas de más de 50 países y visitaron la muestra más de 25.000 profesionales. \nEn 2025\, Argentina contará con un pabellón nacional de aproximadamente 130 m2 a disposición de las empresas que deseen exhibir productos correspondientes al sector pesquero. \nCosto para abonar por empresa: \nUS$ 14600 (stand). \nCONTACTO AAICI:  \nGustavo Colombo \ngcolombo@inversionycomercio.org.ar
URL:https://chubutalmundo.com.ar/event/seafood-expo-north-america-2025/
LOCATION:Centro de convenciones y exposiciones de Boston 415 Summer Street Boston\, MA\, EE. UU.
CATEGORIES:Promoción Comercial
ATTACH;FMTTYPE=image/png:https://chubutalmundo.com.ar/wp-content/uploads/2025/02/descarga-1.png
END:VEVENT
END:VCALENDAR