BEGIN:VCALENDAR
VERSION:2.0
PRODID:-//Chubut al Mundo - ECPv6.13.2.1//NONSGML v1.0//EN
CALSCALE:GREGORIAN
METHOD:PUBLISH
X-ORIGINAL-URL:https://chubutalmundo.com.ar
X-WR-CALDESC:Eventos para Chubut al Mundo
REFRESH-INTERVAL;VALUE=DURATION:PT1H
X-Robots-Tag:noindex
X-PUBLISHED-TTL:PT1H
BEGIN:VTIMEZONE
TZID:America/Argentina/Buenos_Aires
BEGIN:STANDARD
TZOFFSETFROM:-0300
TZOFFSETTO:-0300
TZNAME:-03
DTSTART:20260101T000000
END:STANDARD
END:VTIMEZONE
BEGIN:VEVENT
DTSTART;TZID=America/Argentina/Buenos_Aires:20260421T080000
DTEND;TZID=America/Argentina/Buenos_Aires:20260423T170000
DTSTAMP:20260419T162054
CREATED:20260319T163659Z
LAST-MODIFIED:20260325T133442Z
UID:12057-1776758400-1776963600@chubutalmundo.com.ar
SUMMARY:Seafood Expo Global 2026
DESCRIPTION:Seafood Expo Global es la principal feria pesquera mundial. En 2025 reunió a 2.178 expositores y a más de 35.000 compradores de 80 países.\nSe llevará a cabo en Barcelona\, Spain del 21/04/2026 al 23/04/2026\n\n\nCosto de participación\n\n\nStand USD 12000\n\n* Leer términos y condiciones\n\n\n\n\n\nJunto con el Consejo Federal Pesquero y bajo el signo distintivo “MAR ARGENTINO\, salvaje y austral”\, te invitamos a participar de Seafood Expo Global 2026\, una plataforma clave para conocer a compradores nuevos y calificados\, y para profundizar las relaciones comerciales con los importadores y distribuidores más importantes de Europa y del mundo. \nLa participación en esta feria de negocios permitirá que tu empresa entre en contacto en forma directa con contrapartes potencialmente interesadas en sus productos\, lo que posibilitará su ingreso y ventas en este mercado. \nEn esta edición\, Argentina contará con un pabellón nacional de 254 m2 a disposición de las empresas que deseen exhibir productos correspondientes al sector pesquero. Los espacios están sujetos a disponibilidad y orden en el que se haya preinscripto. Asimismo\, se aclara que es un espacio por empresa. \nCon tu inscripción a través de PromArgentina vas a pertenecer a la delegación oficial argentina y vas a contar con asistencia antes de la feria y durante ella. \nDesde PromArgentina coordinamos el diseño\, la construcción y el montaje del pabellón nacional en el predio ferial. Te brindaremos asesoramiento e información con respecto a tu asistencia al evento. \nAdemás\, mediante la Marca País Argentina vamos a potenciar tu visibilidad\, con vistas a exponer tus productos y servicios de la mejor manera posible. \nCon la colaboración del Consulado de Argentina en Barcelona\, brindaremos soporte en destino y apoyo en la gestión de reuniones con potenciales compradores interesados en tus productos. \nContarás con un contacto de PromArgentina para el evento\, con quien podrás gestionar las acreditaciones y necesidades de tu empresa en la feria. \nLos espacios están sujetos a disponibilidad y orden en el que se haya preinscripto. Asimismo\, se aclara que es un espacio por empresa. \nBarcelona\, Spain – del 21/04/2026 al 23/04/2026 \n\n\n\nDatos de la Feria\n\nUbicación de la feria\n\nPágina web de la feria\nConocer términos y condiciones\n\n\nContacto PromArgentina\nGustavo Colombo\ngcolombo@promargentina.ar
URL:https://chubutalmundo.com.ar/event/seafood-expo-global-2026/
CATEGORIES:Feria Internacional,Promoción Comercial
ATTACH;FMTTYPE=image/jpeg:https://chubutalmundo.com.ar/wp-content/uploads/2026/03/seafood-expo-global.jpeg
END:VEVENT
BEGIN:VEVENT
DTSTART;TZID=America/Argentina/Buenos_Aires:20260429T080000
DTEND;TZID=America/Argentina/Buenos_Aires:20260501T170000
DTSTAMP:20260419T162054
CREATED:20260320T161438Z
LAST-MODIFIED:20260325T134211Z
UID:12084-1777449600-1777654800@chubutalmundo.com.ar
SUMMARY:SIAL Canada 2026
DESCRIPTION:SIAL Canada es una de las ferias internacionales de alimentos y bebidas más importantes de América del Norte. Forma parte de la red global SIAL Network\, punto clave de encuentro.\nSe llevará a cabo en Montreal\, Canadá del 29/04/2026 al 01/05/2026\n\n\nCosto de participación\n\n\nPUESTO DE TRABAJO USD 9000\n\n* Leer términos y condiciones\n\n\n\n\n\nTe invitamos a participar de SIAL Canada\, una de las ferias internacionales de alimentos y bebidas más importantes de América del Norte. El evento forma parte de la red global SIAL Network\, punto clave de encuentro para productores\, exportadores\, importadores y compradores del sector agroalimentario. \nSe destacan los sectores de alimentos procesados y frescos\, bebidas (alcohólicas y no alcohólicas)\, ingredientes y food ingredients\, y productos orgánicos\, plant-based y saludables\, al igual que innovación y nuevos lanzamientos. La participación en esta feria de negocios permitirá que tu empresa entre en contacto de forma directa con contrapartes potencialmente interesadas en sus productos\, lo que posibilitará su ingreso y sus ventas en este mercado. \nEn esta edición\, Argentina contará con un espacio de 18 m2 a disposición de las empresas que deseen exhibir productos y servicios correspondientes al sector. \nCon tu inscripción a través de PromArgentina vas a pertenecer a la delegación nacional oficial y vas a contar con asistencia antes de la feria y durante ella. También coordinaremos el diseño\, la construcción y el montaje del pabellón nacional en el predio ferial. Te brindaremos asesoramiento e información con respecto a tu asistencia al evento. \nCon la colaboración del Consulado de Argentina en Canadá\, brindaremos soporte en destino y apoyo en la gestión de reuniones con potenciales compradores interesados en tus productos. \nContarás con un contacto de PromArgentina para el evento\, con quien podrás gestionar las acreditaciones y necesidades de tu empresa en la feria. \nContacto PromArgentina: \nGiuliana Leone \ngleone@promargentina.ar \nMontreal\, Canadá – del 29/04/2026 al 01/05/2026 \n\n\n\nDatos de la Feria\n\nUbicación de la feria\n\nPágina web de la feria\nConocer términos y condiciones\n\n\nContacto PromArgentina\nGiuliana Leone\ngleone@promargentina.ar
URL:https://chubutalmundo.com.ar/event/sial-canada-2026/
CATEGORIES:Feria Internacional,Promoción Comercial
ATTACH;FMTTYPE=image/png:https://chubutalmundo.com.ar/wp-content/uploads/2026/03/647_2026-03-05-5896_event.png
END:VEVENT
END:VCALENDAR